BEGIN:VCALENDAR
VERSION:2.0
PRODID:-//Le Locomotiv&#039; - ECPv6.15.15//NONSGML v1.0//EN
CALSCALE:GREGORIAN
METHOD:PUBLISH
X-WR-CALNAME:Le Locomotiv&#039;
X-ORIGINAL-URL:https://lelocomotiv.com
X-WR-CALDESC:Évènements pour Le Locomotiv&#039;
REFRESH-INTERVAL;VALUE=DURATION:PT1H
X-Robots-Tag:noindex
X-PUBLISHED-TTL:PT1H
BEGIN:VTIMEZONE
TZID:Europe/Paris
BEGIN:DAYLIGHT
TZOFFSETFROM:+0100
TZOFFSETTO:+0200
TZNAME:CEST
DTSTART:20240331T010000
END:DAYLIGHT
BEGIN:STANDARD
TZOFFSETFROM:+0200
TZOFFSETTO:+0100
TZNAME:CET
DTSTART:20241027T010000
END:STANDARD
BEGIN:DAYLIGHT
TZOFFSETFROM:+0100
TZOFFSETTO:+0200
TZNAME:CEST
DTSTART:20250330T010000
END:DAYLIGHT
BEGIN:STANDARD
TZOFFSETFROM:+0200
TZOFFSETTO:+0100
TZNAME:CET
DTSTART:20251026T010000
END:STANDARD
BEGIN:DAYLIGHT
TZOFFSETFROM:+0100
TZOFFSETTO:+0200
TZNAME:CEST
DTSTART:20260329T010000
END:DAYLIGHT
BEGIN:STANDARD
TZOFFSETFROM:+0200
TZOFFSETTO:+0100
TZNAME:CET
DTSTART:20261025T010000
END:STANDARD
END:VTIMEZONE
BEGIN:VEVENT
DTSTART;VALUE=DATE:20250908
DTEND;VALUE=DATE:20250910
DTSTAMP:20260419T151608
CREATED:20250123T094535Z
LAST-MODIFIED:20250908T131045Z
UID:987485853-1757289600-1757462399@lelocomotiv.com
SUMMARY:Atelier Confiance en Soi - 08 et 09 Septembre 2025 - 💥 COMPLET 💥
DESCRIPTION:JE M'INSCRIS !\n			\n			\n				\n				\n				\n				\n			\n				\n				\n				\n				\n				\n				\n				\n				\n				\n				\n				Atelier sur 2 journées de 09h à 12h et de 14h à 17h.\nTarif : GRATUIT (Financé par l’occitanie à hauteur de 200 € par participant)\nSur inscription
URL:https://lelocomotiv.com/evenement/atelier-confiance-en-soi-08-et-09-septembre-2025/
LOCATION:Le LocoMotiv’\, 5 chemin de capite\, Bagnols/Cèze\, 30200\, France
CATEGORIES:Ateliers
ATTACH;FMTTYPE=image/png:https://lelocomotiv.com/wp-content/uploads/2024/09/Visuels-communication-services-LELOCOMOTIV.png
ORGANIZER;CN="Le LocoMotiv'":MAILTO:lelocomotiv@gmail.com
END:VEVENT
END:VCALENDAR